BEGIN:VCALENDAR
VERSION:2.0
PRODID:-//Aniversario FIQ
CALSCALE:GREGORIAN
METHOD:PUBLISH
X-WR-CALNAME:Aniversario FIQ
X-ORIGINAL-URL:https://www.fiq.unl.edu.ar/aniversariofiq/agenda/cena-aniversario/
X-WR-CALDESC:Cena Aniversario
BEGIN:VEVENT
DTSTART:20191102T210000
DTEND:
SUMMARY:Cena Aniversario
DESCRIPTION:En el marco de los festejos por el Centenario de la Facultad de Ingenería Química de la UNL, el 2 de noviembre de 2019 se realizará la tradicional Cena Aniversario.

LOCATION:Salón Punta Firenze de Salones del Puerto
END:VEVENT
END:VCALENDAR
