BEGIN:VCALENDAR
VERSION:2.0
PRODID:-//Aniversario FIQ
CALSCALE:GREGORIAN
METHOD:PUBLISH
X-WR-CALNAME:Aniversario FIQ
X-ORIGINAL-URL:https://www.fiq.unl.edu.ar/aniversariofiq/agenda/enerfiq-2019-energias-presente-y-futuro/
X-WR-CALDESC:EnerFIQ 2019: Energías, presente y futuro
BEGIN:VEVENT
DTSTART:20190801T090000
DTEND:20190803T000000
SUMMARY:EnerFIQ 2019: Energías, presente y futuro
DESCRIPTION:Escuela para el desarrollo y diversificación de la producción de energía, en el marco del centenario de la Facultad de Ingeniería Química de la Universidad Nacional del Litoral
LOCATION:Facultad de Ingeniería Química
END:VEVENT
END:VCALENDAR
