BEGIN:VCALENDAR
VERSION:2.0
PRODID:-//Aniversario FIQ
CALSCALE:GREGORIAN
METHOD:PUBLISH
X-WR-CALNAME:Aniversario FIQ
X-ORIGINAL-URL:https://www.fiq.unl.edu.ar/aniversariofiq/agenda/la-fiq-en-la-ciudad/
X-WR-CALDESC:La FIQ en la ciudad
BEGIN:VEVENT
DTSTART:20190522T180000
DTEND:20190526T203000
SUMMARY:La FIQ en la ciudad
DESCRIPTION:Con motivo del Centenario de nuestra facultad, este año vuelve uno de los festivales más convocantes de la ciudad y la región para festejar 100 años de excelencia y trayectoria en investigación científica, extensión y docencia, junto a toda la ciudad.
LOCATION:Boulevard Gálvez 1150
END:VEVENT
END:VCALENDAR
