BEGIN:VCALENDAR
VERSION:2.0
PRODID:-//Aniversario FIQ
CALSCALE:GREGORIAN
METHOD:PUBLISH
X-WR-CALNAME:Aniversario FIQ
X-ORIGINAL-URL:https://www.fiq.unl.edu.ar/aniversariofiq/agenda/osvaldo-gross-la-pasteleria-tradicional-en-su-esencia/
X-WR-CALDESC:Osvaldo Gross: La pastelería tradicional en su esencia
BEGIN:VEVENT
DTSTART:20190607T170000
DTEND:20190607T193000
SUMMARY:Osvaldo Gross: La pastelería tradicional en su esencia
DESCRIPTION:Osvaldo Gross dará una clase de pastelería en Santa Fe. La actividad se enmarca en la agenda de actividades por el Centenario de la UNL y la FIQ. Será el viernes 7 de junio en el Molino Marconetti
LOCATION:Molino Marconetti (Dique II, Puerto de Santa Fe)
END:VEVENT
END:VCALENDAR
